BEGIN:VCALENDAR
VERSION:2.0
PRODID:-//Lake Dubay Sailing Association - ECPv6.15.20//NONSGML v1.0//EN
CALSCALE:GREGORIAN
METHOD:PUBLISH
X-WR-CALNAME:Lake Dubay Sailing Association
X-ORIGINAL-URL:https://saildubay.club
X-WR-CALDESC:Events for Lake Dubay Sailing Association
REFRESH-INTERVAL;VALUE=DURATION:PT1H
X-Robots-Tag:noindex
X-PUBLISHED-TTL:PT1H
BEGIN:VTIMEZONE
TZID:America/Chicago
BEGIN:DAYLIGHT
TZOFFSETFROM:-0600
TZOFFSETTO:-0500
TZNAME:CDT
DTSTART:20250309T080000
END:DAYLIGHT
BEGIN:STANDARD
TZOFFSETFROM:-0500
TZOFFSETTO:-0600
TZNAME:CST
DTSTART:20251102T070000
END:STANDARD
BEGIN:DAYLIGHT
TZOFFSETFROM:-0600
TZOFFSETTO:-0500
TZNAME:CDT
DTSTART:20260308T080000
END:DAYLIGHT
BEGIN:STANDARD
TZOFFSETFROM:-0500
TZOFFSETTO:-0600
TZNAME:CST
DTSTART:20261101T070000
END:STANDARD
BEGIN:DAYLIGHT
TZOFFSETFROM:-0600
TZOFFSETTO:-0500
TZNAME:CDT
DTSTART:20270314T080000
END:DAYLIGHT
BEGIN:STANDARD
TZOFFSETFROM:-0500
TZOFFSETTO:-0600
TZNAME:CST
DTSTART:20271107T070000
END:STANDARD
END:VTIMEZONE
BEGIN:VEVENT
DTSTART;TZID=America/Chicago:20260602T180000
DTEND;TZID=America/Chicago:20260602T200000
DTSTAMP:20260423T122530
CREATED:20190319T013637Z
LAST-MODIFIED:20260227T024322Z
UID:561-1780423200-1780430400@saildubay.club
SUMMARY:Tuesday Portsmouth Racing Series
DESCRIPTION:Racing is open to all boat types and ability levels.   The first race begins at 6 PM.  We will attempt to complete 3 races.  Post race debriefing to follow at TBD. \nhttps://goo.gl/maps/yihqMcizj2v
URL:https://saildubay.club/event/portsmouth-racing-series-3/
LOCATION:Lake Dubay –  East Landing\, 1022 County Hwy DB\, Mosinee\, WI\, 54455\, United States
END:VEVENT
BEGIN:VEVENT
DTSTART;VALUE=DATE:20260605
DTEND;VALUE=DATE:20260608
DTSTAMP:20260423T122530
CREATED:20250131T181005Z
LAST-MODIFIED:20260304T021049Z
UID:1376-1780617600-1780876799@saildubay.club
SUMMARY:Lake Pepin Messabout
DESCRIPTION:https://sites.google.com/site/pepinmessabouthttps://sites.google.com/site/pepinmessabout/home?fbclid=IwY2xjawIGsHhleHRuA2FlbQIxMQABHeuPqld3zyhrGe-OjJpWYfcEHFp84U5e0bfUMrjfc1mePFrOj7bXK2ZDNQ_aem_ScvsbpiHhDipQKKh85Eadw
URL:https://saildubay.club/event/lake-pepin-messabout/
LOCATION:WI
END:VEVENT
BEGIN:VEVENT
DTSTART;TZID=America/Chicago:20260609T180000
DTEND;TZID=America/Chicago:20260609T200000
DTSTAMP:20260423T122530
CREATED:20260227T024152Z
LAST-MODIFIED:20260227T024345Z
UID:1601-1781028000-1781035200@saildubay.club
SUMMARY:Tuesday Portsmouth Racing Series
DESCRIPTION:Racing is open to all boat types and ability levels.   The first race begins at 6 PM.  We will attempt to complete 3 races.  Post race debriefing to follow at TBD. \nhttps://goo.gl/maps/yihqMcizj2v
URL:https://saildubay.club/event/tuesday-portsmouth-racing-series/
LOCATION:Lake Dubay –  East Landing\, 1022 County Hwy DB\, Mosinee\, WI\, 54455\, United States
END:VEVENT
BEGIN:VEVENT
DTSTART;TZID=America/Chicago:20260613T090000
DTEND;TZID=America/Chicago:20260613T120000
DTSTAMP:20260423T122530
CREATED:20221222T004850Z
LAST-MODIFIED:20260304T021412Z
UID:1101-1781341200-1781352000@saildubay.club
SUMMARY:Boat Inspection Day
DESCRIPTION:Our local Power Squadron will be on site to do safety inspections of your boat.
URL:https://saildubay.club/event/boat-inspection-day/
LOCATION:Boatyard\, 4312-4448 Park Rd\, Mosinee\, WI\, 54455\, United States
END:VEVENT
BEGIN:VEVENT
DTSTART;TZID=America/Chicago:20260613T100000
DTEND;TZID=America/Chicago:20260613T170000
DTSTAMP:20260423T122530
CREATED:20190319T011856Z
LAST-MODIFIED:20260227T023518Z
UID:544-1781344800-1781370000@saildubay.club
SUMMARY:Poker Cruise
DESCRIPTION:Poker Cruise
URL:https://saildubay.club/event/poker-cruise/
LOCATION:Lake Dubay –  East Landing\, 1022 County Hwy DB\, Mosinee\, WI\, 54455\, United States
END:VEVENT
BEGIN:VEVENT
DTSTART;TZID=America/Chicago:20260616T180000
DTEND;TZID=America/Chicago:20260616T200000
DTSTAMP:20260423T122530
CREATED:20190319T013544Z
LAST-MODIFIED:20260227T024441Z
UID:559-1781632800-1781640000@saildubay.club
SUMMARY:Tuesday Portsmouth Racing Series
DESCRIPTION:Racing is open to all boat types and ability levels.   The first race begins at 6 PM.  We will attempt to complete 3 races.  Post race debriefing to follow at TBD. \nhttps://goo.gl/maps/yihqMcizj2v
URL:https://saildubay.club/event/portsmouth-racing-series-2/
LOCATION:Lake Dubay –  East Landing\, 1022 County Hwy DB\, Mosinee\, WI\, 54455\, United States
END:VEVENT
BEGIN:VEVENT
DTSTART;TZID=America/Chicago:20260623T180000
DTEND;TZID=America/Chicago:20260623T200000
DTSTAMP:20260423T122530
CREATED:20260227T024708Z
LAST-MODIFIED:20260227T024811Z
UID:1606-1782237600-1782244800@saildubay.club
SUMMARY:Tuesday Portsmouth Racing Series
DESCRIPTION:Racing is open to all boat types and ability levels.   The first race begins at 6 PM.  We will attempt to complete 3 races.  Post race debriefing to follow at TBD. \nhttps://goo.gl/maps/yihqMcizj2v
URL:https://saildubay.club/event/tuesday-portsmouth-racing-series-2/
LOCATION:Lake Dubay –  East Landing\, 1022 County Hwy DB\, Mosinee\, WI\, 54455\, United States
END:VEVENT
BEGIN:VEVENT
DTSTART;TZID=America/Chicago:20260630T180000
DTEND;TZID=America/Chicago:20260630T200000
DTSTAMP:20260423T122530
CREATED:20190319T014022Z
LAST-MODIFIED:20260227T024854Z
UID:569-1782842400-1782849600@saildubay.club
SUMMARY:Tuesday Portsmouth Racing Series
DESCRIPTION:Racing is open to all boat types and ability levels.   The first race begins at 6:00 PM.  We will attempt to complete 3 races.  Post race debriefing to follow at TBD. \nhttps://goo.gl/maps/yihqMcizj2v
URL:https://saildubay.club/event/portsmouth-racing-series-7/
LOCATION:Lake Dubay –  East Landing\, 1022 County Hwy DB\, Mosinee\, WI\, 54455\, United States
END:VEVENT
END:VCALENDAR