BEGIN:VCALENDAR
VERSION:2.0
PRODID:-//Lake Dubay Sailing Association - ECPv6.15.20//NONSGML v1.0//EN
CALSCALE:GREGORIAN
METHOD:PUBLISH
X-WR-CALNAME:Lake Dubay Sailing Association
X-ORIGINAL-URL:https://saildubay.club
X-WR-CALDESC:Events for Lake Dubay Sailing Association
REFRESH-INTERVAL;VALUE=DURATION:PT1H
X-Robots-Tag:noindex
X-PUBLISHED-TTL:PT1H
BEGIN:VTIMEZONE
TZID:America/Chicago
BEGIN:DAYLIGHT
TZOFFSETFROM:-0600
TZOFFSETTO:-0500
TZNAME:CDT
DTSTART:20200308T080000
END:DAYLIGHT
BEGIN:STANDARD
TZOFFSETFROM:-0500
TZOFFSETTO:-0600
TZNAME:CST
DTSTART:20201101T070000
END:STANDARD
BEGIN:DAYLIGHT
TZOFFSETFROM:-0600
TZOFFSETTO:-0500
TZNAME:CDT
DTSTART:20210314T080000
END:DAYLIGHT
BEGIN:STANDARD
TZOFFSETFROM:-0500
TZOFFSETTO:-0600
TZNAME:CST
DTSTART:20211107T070000
END:STANDARD
BEGIN:DAYLIGHT
TZOFFSETFROM:-0600
TZOFFSETTO:-0500
TZNAME:CDT
DTSTART:20220313T080000
END:DAYLIGHT
BEGIN:STANDARD
TZOFFSETFROM:-0500
TZOFFSETTO:-0600
TZNAME:CST
DTSTART:20221106T070000
END:STANDARD
BEGIN:DAYLIGHT
TZOFFSETFROM:-0600
TZOFFSETTO:-0500
TZNAME:CDT
DTSTART:20230312T080000
END:DAYLIGHT
BEGIN:STANDARD
TZOFFSETFROM:-0500
TZOFFSETTO:-0600
TZNAME:CST
DTSTART:20231105T070000
END:STANDARD
BEGIN:DAYLIGHT
TZOFFSETFROM:-0600
TZOFFSETTO:-0500
TZNAME:CDT
DTSTART:20240310T080000
END:DAYLIGHT
BEGIN:STANDARD
TZOFFSETFROM:-0500
TZOFFSETTO:-0600
TZNAME:CST
DTSTART:20241103T070000
END:STANDARD
BEGIN:DAYLIGHT
TZOFFSETFROM:-0600
TZOFFSETTO:-0500
TZNAME:CDT
DTSTART:20250309T080000
END:DAYLIGHT
BEGIN:STANDARD
TZOFFSETFROM:-0500
TZOFFSETTO:-0600
TZNAME:CST
DTSTART:20251102T070000
END:STANDARD
BEGIN:DAYLIGHT
TZOFFSETFROM:-0600
TZOFFSETTO:-0500
TZNAME:CDT
DTSTART:20260308T080000
END:DAYLIGHT
BEGIN:STANDARD
TZOFFSETFROM:-0500
TZOFFSETTO:-0600
TZNAME:CST
DTSTART:20261101T070000
END:STANDARD
BEGIN:DAYLIGHT
TZOFFSETFROM:-0600
TZOFFSETTO:-0500
TZNAME:CDT
DTSTART:20270314T080000
END:DAYLIGHT
BEGIN:STANDARD
TZOFFSETFROM:-0500
TZOFFSETTO:-0600
TZNAME:CST
DTSTART:20271107T070000
END:STANDARD
END:VTIMEZONE
BEGIN:VEVENT
DTSTART;TZID=America/Chicago:20260602T180000
DTEND;TZID=America/Chicago:20260602T200000
DTSTAMP:20260423T170502
CREATED:20190319T013637Z
LAST-MODIFIED:20260227T024322Z
UID:561-1780423200-1780430400@saildubay.club
SUMMARY:Tuesday Portsmouth Racing Series
DESCRIPTION:Racing is open to all boat types and ability levels.   The first race begins at 6 PM.  We will attempt to complete 3 races.  Post race debriefing to follow at TBD. \nhttps://goo.gl/maps/yihqMcizj2v
URL:https://saildubay.club/event/portsmouth-racing-series-3/
LOCATION:Lake Dubay –  East Landing\, 1022 County Hwy DB\, Mosinee\, WI\, 54455\, United States
END:VEVENT
BEGIN:VEVENT
DTSTART;VALUE=DATE:20260501
DTEND;VALUE=DATE:20260502
DTSTAMP:20260423T170502
CREATED:20190318T012224Z
LAST-MODIFIED:20260304T021318Z
UID:513-1777593600-1777679999@saildubay.club
SUMMARY:Boatyard Opens
DESCRIPTION:
URL:https://saildubay.club/event/boatyard-opens-today/
LOCATION:Boatyard\, 4312-4448 Park Rd\, Mosinee\, WI\, 54455\, United States
END:VEVENT
BEGIN:VEVENT
DTSTART;TZID=America/Chicago:20260314T090000
DTEND;TZID=America/Chicago:20260314T100000
DTSTAMP:20260423T170502
CREATED:20190116T040742Z
LAST-MODIFIED:20260227T023715Z
UID:239-1773478800-1773482400@saildubay.club
SUMMARY:Monthly Business Meeting (Guests welcome)
DESCRIPTION:This is our monthly Business Meeting .  We will meet at The Olympia Restaurant in Stevens Point to handle any Association business\, discuss sailing\, and share some breakfast. \nNon-members are encouraged to attend.
URL:https://saildubay.club/event/monthly-business-meeting-4/
LOCATION:Olympia Family Restaurant\, 200 Division St A\, Stevens Point\, Wisconsin\, 54481\, United States
END:VEVENT
BEGIN:VEVENT
DTSTART;TZID=America/Chicago:20250613T170000
DTEND;TZID=America/Chicago:20250613T210000
DTSTAMP:20260423T170502
CREATED:20190319T004810Z
LAST-MODIFIED:20250318T024537Z
UID:521-1749834000-1749848400@saildubay.club
SUMMARY:Spring Banquet at Pinewood Supper Club
DESCRIPTION:  \nSpring Banquet at the Pinewood Supper Club. \n  \n  \n  \n  \n 
URL:https://saildubay.club/event/spring-banquet/
LOCATION:Pinewood Supper Club\, 1208 Half Moon Lake Dr\, Mosinee\, WI\, 54455\, United States
END:VEVENT
BEGIN:VEVENT
DTSTART;TZID=America/Chicago:20250527T170000
DTEND;TZID=America/Chicago:20250527T203000
DTSTAMP:20260423T170502
CREATED:20220106T004117Z
LAST-MODIFIED:20250318T024314Z
UID:976-1748365200-1748377800@saildubay.club
SUMMARY:Tune-Up Sail
DESCRIPTION:Tune-up Sail tonight. \nMe might do some practice racing.
URL:https://saildubay.club/event/open-sailing-night-meet-and-greet/
LOCATION:Lake Dubay –  East Landing\, 1022 County Hwy DB\, Mosinee\, WI\, 54455\, United States
END:VEVENT
BEGIN:VEVENT
DTSTART;TZID=America/Chicago:20250517T090000
DTEND;TZID=America/Chicago:20250517T120000
DTSTAMP:20260423T170502
CREATED:20220425T144000Z
LAST-MODIFIED:20250506T001826Z
UID:1017-1747472400-1747483200@saildubay.club
SUMMARY:Committee Boat Cleanup Day
DESCRIPTION:Clean up and prep the committee boat for the upcoming racing season …
URL:https://saildubay.club/event/committee-boat-cleanup-day/
LOCATION:Chuck’s Place\, 516 Hickory St.\, Marathon\, WI\, 54448\, United States
END:VEVENT
BEGIN:VEVENT
DTSTART;TZID=America/Chicago:20250118T090000
DTEND;TZID=America/Chicago:20250118T120000
DTSTAMP:20260423T170502
CREATED:20250115T230809Z
LAST-MODIFIED:20250115T230912Z
UID:1373-1737190800-1737201600@saildubay.club
SUMMARY:Tree Removal
DESCRIPTION:
URL:https://saildubay.club/event/tree-removal/
LOCATION:Boatyard\, 4312-4448 Park Rd\, Mosinee\, WI\, 54455\, United States
END:VEVENT
BEGIN:VEVENT
DTSTART;TZID=America/Chicago:20240827T170000
DTEND;TZID=America/Chicago:20240827T200000
DTSTAMP:20260423T170502
CREATED:20190319T015029Z
LAST-MODIFIED:20240128T192742Z
UID:583-1724778000-1724788800@saildubay.club
SUMMARY:Open Sailing Night & Meet and Greet
DESCRIPTION:This is a non-racing night.  Sail with someone you’ve never sailed with before.  Maybe introduce a friend or family member to sailing. \nLake Dubay Sailing Association will have a member available for a Meet & Greet\, and to answer questions about sailing and LDBSA . Anyone interested in sailing\, whether you currently know how to sail or not\, is invited to come by the Lake Dubay boat launch to learn about LDBSA\, its activities and sailing in general.
URL:https://saildubay.club/event/open-sailing-night-4/
LOCATION:Lake Dubay –  East Landing\, 1022 County Hwy DB\, Mosinee\, WI\, 54455\, United States
END:VEVENT
BEGIN:VEVENT
DTSTART;TZID=America/Chicago:20240730T170000
DTEND;TZID=America/Chicago:20240730T200000
DTSTAMP:20260423T170502
CREATED:20190319T014942Z
LAST-MODIFIED:20240128T193238Z
UID:581-1722358800-1722369600@saildubay.club
SUMMARY:Open Sailing Night & Meet and Greet
DESCRIPTION:This is a non-racing night.  Sail with someone you’ve never sailed with before.  Maybe introduce a friend or family member to sailing. \nLake Dubay Sailing Association will have a member available for a Meet & Greet\, and to answer questions about sailing and LDBSA . Anyone interested in sailing\, whether you currently know how to sail or not\, is invited to come by the Lake Dubay boat launch to learn about LDBSA\, its activities and sailing in general.
URL:https://saildubay.club/event/open-sailing-night-3/
LOCATION:Lake Dubay –  East Landing\, 1022 County Hwy DB\, Mosinee\, WI\, 54455\, United States
END:VEVENT
BEGIN:VEVENT
DTSTART;TZID=America/Chicago:20240625T170000
DTEND;TZID=America/Chicago:20240625T200000
DTSTAMP:20260423T170502
CREATED:20190319T014853Z
LAST-MODIFIED:20240128T193804Z
UID:579-1719334800-1719345600@saildubay.club
SUMMARY:Open Sailing Night & Meet and Greet
DESCRIPTION:This is a non-racing night.  Sail with someone you’ve never sailed with before.  Maybe introduce a friend or family member to sailing. \nLake Dubay Sailing Association will have a member available for a Meet & Greet\, and to answer questions about sailing and LDBSA . Anyone interested in sailing\, whether you currently know how to sail or not\, is invited to come by the Lake Dubay boat launch to learn about LDBSA\, its activities and sailing in general.
URL:https://saildubay.club/event/open-sailing-night-2/
LOCATION:Lake Dubay –  East Landing\, 1022 County Hwy DB\, Mosinee\, WI\, 54455\, United States
END:VEVENT
BEGIN:VEVENT
DTSTART;TZID=America/Chicago:20240521T170000
DTEND;TZID=America/Chicago:20240521T200000
DTSTAMP:20260423T170502
CREATED:20190319T014617Z
LAST-MODIFIED:20240128T191835Z
UID:577-1716310800-1716321600@saildubay.club
SUMMARY:Open Sailing Night & Meet and Greet
DESCRIPTION:This is a non-racing night.  Sail with someone you’ve never sailed with before.  Maybe introduce a friend or family member to sailing. \nLake Dubay Sailing Association will have a member available for a Meet & Greet\, and to answer questions about sailing and LDBSA . Anyone interested in sailing\, whether you currently know how to sail or not\, is invited to come by the Lake Dubay boat launch to learn about LDBSA\, its activities and sailing in general.
URL:https://saildubay.club/event/open-sailing-night/
LOCATION:Lake Dubay –  East Landing\, 1022 County Hwy DB\, Mosinee\, WI\, 54455\, United States
END:VEVENT
BEGIN:VEVENT
DTSTART;TZID=America/Chicago:20230725T140000
DTEND;TZID=America/Chicago:20230725T163000
DTSTAMP:20260423T170502
CREATED:20230524T020444Z
LAST-MODIFIED:20230524T020444Z
UID:1156-1690293600-1690302600@saildubay.club
SUMMARY:Sailing with the Boys & Girls Club of Wausau
DESCRIPTION:We will be gathering at the East Landing to take some members of the Boys & Girls Club of Wausau out sailing. \nPlease contact Dennis Gamble at ddgamble10@gmail.com for more information about this event.
URL:https://saildubay.club/event/sailing-with-the-boys-girls-club-of-wausau/
LOCATION:Lake Dubay –  East Landing\, 1022 County Hwy DB\, Mosinee\, WI\, 54455\, United States
END:VEVENT
BEGIN:VEVENT
DTSTART;TZID=America/Chicago:20230513T090000
DTEND;TZID=America/Chicago:20230513T120000
DTSTAMP:20260423T170502
CREATED:20190319T005354Z
LAST-MODIFIED:20230312T233904Z
UID:525-1683968400-1683979200@saildubay.club
SUMMARY:Boatyard Work Day
DESCRIPTION:Things to do: \n\nSetup trailer\nPrep lawn mowers\nMark slips if necessary\nMow if necessary\nPut dock in cove
URL:https://saildubay.club/event/boatyard-work-day/
LOCATION:Boatyard\, 4312-4448 Park Rd\, Mosinee\, WI\, 54455\, United States
END:VEVENT
BEGIN:VEVENT
DTSTART;TZID=America/Chicago:20220312T090000
DTEND;TZID=America/Chicago:20220312T100000
DTSTAMP:20260423T170502
CREATED:20190116T035956Z
LAST-MODIFIED:20220306T172733Z
UID:231-1647075600-1647079200@saildubay.club
SUMMARY:Monthly Business Meeting
DESCRIPTION:This is our monthly Business Meeting .  We will meet at Gorski’s Restaurant in Mosinee to handle any Association business\, discuss sailing\, and share some breakfast. \nNon-members are encouraged to attend.
URL:https://saildubay.club/event/monthly-business-meeting-2/
LOCATION:Gorski’s Restaurant\, 450 Orbiting Dr\, Mosinee\, WI\, 54455\, United States
END:VEVENT
BEGIN:VEVENT
DTSTART;TZID=America/Chicago:20220212T090000
DTEND;TZID=America/Chicago:20220212T100000
DTSTAMP:20260423T170502
CREATED:20220106T002642Z
LAST-MODIFIED:20220106T002642Z
UID:968-1644656400-1644660000@saildubay.club
SUMMARY:Monthly Business Meeting
DESCRIPTION:Location TBD
URL:https://saildubay.club/event/monthly-business-meeting-6/
LOCATION:WI
END:VEVENT
BEGIN:VEVENT
DTSTART;TZID=America/Chicago:20220108T090000
DTEND;TZID=America/Chicago:20220108T100000
DTSTAMP:20260423T170502
CREATED:20220105T195329Z
LAST-MODIFIED:20220105T195329Z
UID:966-1641632400-1641636000@saildubay.club
SUMMARY:Monthly Business Meeting
DESCRIPTION:Monthly business meeting to be held at Mike Koss’ place this month. \nPlease do not attend if you are not vaccinated. \nPlease go around to the left side of the garage and follow the signs to the entrance in the rear of the building.
URL:https://saildubay.club/event/monthly-business-meeting/
LOCATION:Mike Koss’ place\, 151143 Dragonwing Lane\, Wausau\, WI\, 54401\, United States
END:VEVENT
BEGIN:VEVENT
DTSTART;TZID=America/Chicago:20210417T100000
DTEND;TZID=America/Chicago:20210417T140000
DTSTAMP:20260423T170502
CREATED:20210213T021411Z
LAST-MODIFIED:20210213T021411Z
UID:882-1618653600-1618668000@saildubay.club
SUMMARY:RC Laser Racing - Location TBD
DESCRIPTION:
URL:https://saildubay.club/event/rc-laser-racing-location-tbd/
LOCATION:WI
END:VEVENT
END:VCALENDAR