BEGIN:VCALENDAR
VERSION:2.0
PRODID:-//Lake Dubay Sailing Association - ECPv6.15.20//NONSGML v1.0//EN
CALSCALE:GREGORIAN
METHOD:PUBLISH
X-WR-CALNAME:Lake Dubay Sailing Association
X-ORIGINAL-URL:https://saildubay.club
X-WR-CALDESC:Events for Lake Dubay Sailing Association
REFRESH-INTERVAL;VALUE=DURATION:PT1H
X-Robots-Tag:noindex
X-PUBLISHED-TTL:PT1H
BEGIN:VTIMEZONE
TZID:America/Chicago
BEGIN:DAYLIGHT
TZOFFSETFROM:-0600
TZOFFSETTO:-0500
TZNAME:CDT
DTSTART:20250309T080000
END:DAYLIGHT
BEGIN:STANDARD
TZOFFSETFROM:-0500
TZOFFSETTO:-0600
TZNAME:CST
DTSTART:20251102T070000
END:STANDARD
BEGIN:DAYLIGHT
TZOFFSETFROM:-0600
TZOFFSETTO:-0500
TZNAME:CDT
DTSTART:20260308T080000
END:DAYLIGHT
BEGIN:STANDARD
TZOFFSETFROM:-0500
TZOFFSETTO:-0600
TZNAME:CST
DTSTART:20261101T070000
END:STANDARD
BEGIN:DAYLIGHT
TZOFFSETFROM:-0600
TZOFFSETTO:-0500
TZNAME:CDT
DTSTART:20270314T080000
END:DAYLIGHT
BEGIN:STANDARD
TZOFFSETFROM:-0500
TZOFFSETTO:-0600
TZNAME:CST
DTSTART:20271107T070000
END:STANDARD
END:VTIMEZONE
BEGIN:VEVENT
DTSTART;TZID=America/Chicago:20260818T173000
DTEND;TZID=America/Chicago:20260818T200000
DTSTAMP:20260423T170657
CREATED:20191112T033617Z
LAST-MODIFIED:20260304T020346Z
UID:767-1787074200-1787083200@saildubay.club
SUMMARY:Tuesday Portsmouth Racing Series
DESCRIPTION:Racing is open to all boat types and ability levels.   The first race begins at 5:30 PM.  We will attempt to complete 3 races.  Post race debriefing to follow at TBD. \nhttps://goo.gl/maps/yihqMcizj2v
URL:https://saildubay.club/event/portsmouth-racing-series-11/
LOCATION:Lake Dubay –  East Landing\, 4422 Park Rd\, mosinee\, WI\, 54455\, United States
END:VEVENT
END:VCALENDAR